BEGIN:VCALENDAR
VERSION:2.0
PRODID:-//wp-events-plugin.com//7.2.3.1//EN
BEGIN:VEVENT
UID:54@shmrc.org.uk
DTSTART;VALUE=DATE:20250308
DTEND;VALUE=DATE:20250310
DTSTAMP:20250106T234136Z
URL:https://shmrc.org.uk/events/westcliff-at-the-basingstoke-mrc-show/
SUMMARY:Westcliff at the Basingstoke MRC Show
DESCRIPTION:
CATEGORIES:Westcliff
LOCATION:The Blue Coat School\, Western Way\, Basingstoke\, Hampshire\, RG2
 2 6HA\, United Kingdom
GEO:51.256349;-1.112979
X-APPLE-STRUCTURED-LOCATION;VALUE=URI;X-ADDRESS=Western Way\, Basingstoke\,
  Hampshire\, RG22 6HA\, United Kingdom;X-APPLE-RADIUS=100;X-TITLE=The Blue
  Coat School:geo:51.256349,-1.112979
END:VEVENT
END:VCALENDAR