BEGIN:VCALENDAR
VERSION:2.0
PRODID:-//wp-events-plugin.com//7.2.3.1//EN
BEGIN:VEVENT
UID:83@shmrc.org.uk
DTSTART;VALUE=DATE:20260509
DTEND;VALUE=DATE:20260511
DTSTAMP:20260213T213402Z
URL:https://shmrc.org.uk/events/ryburn-at-expoem-bracknell/
SUMMARY:Ryburn at ExpoEM Bracknell
DESCRIPTION:
CATEGORIES:Ryburn
LOCATION:Bracknell Leisure Centre\, Bagshot Road\, Bracknell\, RG12 9SE\, U
 nited Kingdom
GEO:51.403071;-0.747101
X-APPLE-STRUCTURED-LOCATION;VALUE=URI;X-ADDRESS=Bagshot Road\, Bracknell\, 
 RG12 9SE\, United Kingdom;X-APPLE-RADIUS=100;X-TITLE=Bracknell Leisure Cen
 tre:geo:51.403071,-0.747101
END:VEVENT
END:VCALENDAR