BEGIN:VCALENDAR
VERSION:2.0
PRODID:-//wp-events-plugin.com//7.2.3.1//EN
BEGIN:VEVENT
UID:32@shmrc.org.uk
DTSTART:20231010T193000Z
DTEND:20231010T220000Z
DTSTAMP:20231006T100222Z
URL:https://shmrc.org.uk/events/next-south-hants-area-group-meeting/
SUMMARY:Next South Hants Area Group meeting
DESCRIPTION:
ATTACH;FMTTYPE=image/jpeg:https://shmrc.org.uk/wp-content/uploads/2023/10/
 kemps-quay-10-October-2023.jpg
CATEGORIES:South Hants Area Group
END:VEVENT
END:VCALENDAR