BEGIN:VCALENDAR
VERSION:2.0
PRODID:-//wp-events-plugin.com//7.2.3.1//EN
BEGIN:VEVENT
UID:43@shmrc.org.uk
DTSTART;VALUE=DATE:20240608
DTEND;VALUE=DATE:20240610
DTSTAMP:20240213T155018Z
URL:https://shmrc.org.uk/events/lee-on-the-solent-at-solent-sky-tram-event
 /
SUMMARY:Lee-on-the-Solent at Solent Sky Tram Event
DESCRIPTION:
CATEGORIES:Lee-on-the-Solent
LOCATION:Solent Sky Museum\, Albert Road South\, Southampton\, Hampshire\, 
 SO14 3FR\, United Kingdom
GEO:50.897913;-1.392178
X-APPLE-STRUCTURED-LOCATION;VALUE=URI;X-ADDRESS=Albert Road South\, Southam
 pton\, Hampshire\, SO14 3FR\, United Kingdom;X-APPLE-RADIUS=100;X-TITLE=So
 lent Sky Museum:geo:50.897913,-1.392178
END:VEVENT
END:VCALENDAR