BEGIN:VCALENDAR
VERSION:2.0
PRODID:-//wp-events-plugin.com//7.2.3.1//EN
BEGIN:VEVENT
UID:56@shmrc.org.uk
DTSTART;VALUE=DATE:20250510
DTEND;VALUE=DATE:20250512
DTSTAMP:20250107T000154Z
URL:https://shmrc.org.uk/events/hope-under-dinmore-at-expoem/
SUMMARY:Hope-under-Dinmore at expoEM
DESCRIPTION:
CATEGORIES:Hope-under-Dinmore
LOCATION:Bracknell Leisure Centre\, Bagshot Road\, Bracknell\, RG12 9SE\, U
 nited Kingdom
GEO:51.403071;-0.747101
X-APPLE-STRUCTURED-LOCATION;VALUE=URI;X-ADDRESS=Bagshot Road\, Bracknell\, 
 RG12 9SE\, United Kingdom;X-APPLE-RADIUS=100;X-TITLE=Bracknell Leisure Cen
 tre:geo:51.403071,-0.747101
END:VEVENT
END:VCALENDAR