BEGIN:VCALENDAR
VERSION:2.0
PRODID:-//wp-events-plugin.com//7.2.3.1//EN
BEGIN:VEVENT
UID:25@shmrc.org.uk
DTSTART:20230715T103000Z
DTEND:20230715T163000Z
DTSTAMP:20230529T213725Z
URL:https://shmrc.org.uk/events/hepton-wharf-at-larkrail/
SUMMARY:Hepton Wharf at LarkRail
DESCRIPTION:
CATEGORIES:Hepton Wharf
LOCATION:New Oriel Hall\, Brookleaze Buildings\, Larkhall\, Bath\, BA1 6RA\
 , United Kingdom
GEO:51.397848;-2.345844
X-APPLE-STRUCTURED-LOCATION;VALUE=URI;X-ADDRESS=Brookleaze Buildings\, Lark
 hall\, Bath\, BA1 6RA\, United Kingdom;X-APPLE-RADIUS=100;X-TITLE=New Orie
 l Hall:geo:51.397848,-2.345844
END:VEVENT
END:VCALENDAR