BEGIN:VCALENDAR
VERSION:2.0
PRODID:-//wp-events-plugin.com//7.2.3.1//EN
BEGIN:VEVENT
UID:13@shmrc.org.uk
DTSTART;VALUE=DATE:20230128
DTEND;VALUE=DATE:20230130
DTSTAMP:20230402T224551Z
URL:https://shmrc.org.uk/events/great-bardfield-at-southampton/
SUMMARY:Great Bardfield at Southampton
DESCRIPTION:
CATEGORIES:Great Bardfield
LOCATION:Barton Peveril College\, Chestnut Avenue\, Eastleigh\, SO50 5ZA\, 
 United Kingdom
GEO:50.961267;-1.371639
X-APPLE-STRUCTURED-LOCATION;VALUE=URI;X-ADDRESS=Chestnut Avenue\, Eastleigh
 \, SO50 5ZA\, United Kingdom;X-APPLE-RADIUS=100;X-TITLE=Barton Peveril Col
 lege:geo:50.961267,-1.371639
END:VEVENT
END:VCALENDAR