BEGIN:VCALENDAR
VERSION:2.0
PRODID:-//wp-events-plugin.com//7.2.3.1//EN
BEGIN:VEVENT
UID:46@shmrc.org.uk
DTSTART;VALUE=DATE:20250726
DTEND;VALUE=DATE:20250727
DTSTAMP:20240807T140313Z
URL:https://shmrc.org.uk/events/butley-mills-at-larkrail/
SUMMARY:Butley Mills at Larkrail
DESCRIPTION:
CATEGORIES:Butley Mills
LOCATION:New Oriel Hall\, Brookleaze Buildings\, Larkhall\, Bath\, BA1 6RA\
 , United Kingdom
GEO:51.397848;-2.345844
X-APPLE-STRUCTURED-LOCATION;VALUE=URI;X-ADDRESS=Brookleaze Buildings\, Lark
 hall\, Bath\, BA1 6RA\, United Kingdom;X-APPLE-RADIUS=100;X-TITLE=New Orie
 l Hall:geo:51.397848,-2.345844
END:VEVENT
END:VCALENDAR