BEGIN:VCALENDAR
VERSION:2.0
PRODID:-//wp-events-plugin.com//7.2.3.1//EN
BEGIN:VEVENT
UID:84@shmrc.org.uk
DTSTART;VALUE=DATE:20260516
DTEND;VALUE=DATE:20260518
DTSTAMP:20260213T214017Z
URL:https://shmrc.org.uk/events/brighton-east-at-salisbury-railex/
SUMMARY:Brighton East at Salisbury Railex
DESCRIPTION:
CATEGORIES:Brighton East
LOCATION:The Thruxton Centre\, Thruxton Circuit\, Andover\, Hampshire\, SP1
 1 8PW\, United Kingdom
GEO:51.206098;-1.608785
X-APPLE-STRUCTURED-LOCATION;VALUE=URI;X-ADDRESS=Thruxton Circuit\, Andover\
 , Hampshire\, SP11 8PW\, United Kingdom;X-APPLE-RADIUS=100;X-TITLE=The Thr
 uxton Centre:geo:51.206098,-1.608785
END:VEVENT
END:VCALENDAR