BEGIN:VCALENDAR
VERSION:2.0
PRODID:-//wp-events-plugin.com//7.2.3.1//EN
BEGIN:VEVENT
UID:68@shmrc.org.uk
DTSTART;VALUE=DATE:20251004
DTEND;VALUE=DATE:20251006
DTSTAMP:20250107T011213Z
URL:https://shmrc.org.uk/events/brighton-east-at-folkeston-mrc-show/
SUMMARY:Brighton East at Folkeston MRC Show
DESCRIPTION:
CATEGORIES:Brighton East
LOCATION:Leas Cliff Hall\, The Leas\, Folkeston\, CT20 2DZ\, United Kingdom
GEO:51.076267;1.173885
X-APPLE-STRUCTURED-LOCATION;VALUE=URI;X-ADDRESS=The Leas\, Folkeston\, CT20
  2DZ\, United Kingdom;X-APPLE-RADIUS=100;X-TITLE=Leas Cliff Hall:geo:51.07
 6267,1.173885
END:VEVENT
END:VCALENDAR